BEGIN:VCALENDAR
VERSION:2.0
PRODID:-//Squarespace Inc/Squarespace 6//v6//EN
BEGIN:VEVENT
UID:59533e4d36e5d316f68b0424@squarespace.com
DTSTAMP:20170628T053343Z
DTSTART:20170702T163000Z
DTEND:20170702T190000Z
SUMMARY:Cadet Training
END:VEVENT
END:VCALENDAR
