BEGIN:VCALENDAR
VERSION:2.0
PRODID:-//Squarespace Inc/Squarespace 6//v6//EN
BEGIN:VEVENT
UID:59533ee944024324fd3e1fe5@squarespace.com
DTSTAMP:20170628T053548Z
DTSTART:20170716T163000Z
DTEND:20170716T190000Z
SUMMARY:Cadet Training
END:VEVENT
END:VCALENDAR
