BEGIN:VCALENDAR
VERSION:2.0
PRODID:-//Squarespace Inc/Squarespace 6//v6//EN
BEGIN:VEVENT
UID:5923bfa320099ecd83963e08@squarespace.com
DTSTAMP:20170523T045136Z
DTSTART:20170715T040000Z
DTEND:20170716T140000Z
SUMMARY:Venue Booked
END:VEVENT
END:VCALENDAR
