BEGIN:VCALENDAR
VERSION:2.0
PRODID:-//Squarespace Inc/Squarespace 6//v6//EN
BEGIN:VEVENT
UID:594c9040be6594cf1822c205@squarespace.com
DTSTAMP:20170623T035245Z
DTSTART:20170625T113000Z
DTEND:20170625T220000Z
SUMMARY:Venue Booked
END:VEVENT
END:VCALENDAR
