BEGIN:VCALENDAR
VERSION:2.0
PRODID:-//Squarespace Inc/Squarespace 6//v6//EN
BEGIN:VEVENT
UID:58a26fa717bffc4adedc6a14@squarespace.com
DTSTAMP:20170214T024910Z
DTSTART:20170528T140000Z
DTEND:20170528T210000Z
SUMMARY:Club AGM
END:VEVENT
END:VCALENDAR
