BEGIN:VCALENDAR
VERSION:2.0
PRODID:-//Squarespace Inc/Squarespace 6//v6//EN
BEGIN:VEVENT
UID:58a26f51db29d63c7faf73d9@squarespace.com
DTSTAMP:20170214T024641Z
DTSTART:20170514T020000Z
DTEND:20170514T030000Z
SUMMARY:Central Region Club Chairs Meeting
END:VEVENT
END:VCALENDAR
