BEGIN:VCALENDAR
VERSION:2.0
PRODID:-//Squarespace Inc/Squarespace 6//v6//EN
BEGIN:VEVENT
UID:584e52b129687fbe454d108f@squarespace.com
DTSTAMP:20161212T073346Z
DTSTART:20170305T170000Z
DTEND:20170305T220000Z
SUMMARY:WORSER BAY CLUB DAY
END:VEVENT
END:VCALENDAR
