BEGIN:VCALENDAR
VERSION:2.0
PRODID:-//Squarespace Inc/Squarespace 6//v6//EN
BEGIN:VEVENT
UID:58a26db71b10e38533c03f34@squarespace.com
DTSTAMP:20170214T023942Z
DTSTART:20170325T060000Z
DTEND:20170326T140000Z
SUMMARY:Venue Hire
END:VEVENT
END:VCALENDAR
