BEGIN:VCALENDAR
VERSION:2.0
PRODID:-//Squarespace Inc/Squarespace 6//v6//EN
BEGIN:VEVENT
UID:584e531e6b8f5bf2d3ef06dc@squarespace.com
DTSTAMP:20170214T023304Z
DTSTART:20170319T160000Z
DTEND:20170319T210000Z
SUMMARY:WORSER BAY CLUB DAY - Prize Giving
END:VEVENT
END:VCALENDAR
