BEGIN:VCALENDAR
VERSION:2.0
PRODID:-//Squarespace Inc/Squarespace 6//v6//EN
BEGIN:VEVENT
UID:58a273281b10e38533c08662@squarespace.com
DTSTAMP:20170214T030345Z
DTSTART:20170313T230000Z
DTEND:20170314T010000Z
SUMMARY:Club Committee
END:VEVENT
END:VCALENDAR
