BEGIN:VCALENDAR
VERSION:2.0
PRODID:-//Squarespace Inc/Squarespace 6//v6//EN
BEGIN:VEVENT
UID:584e52e4bebafb9fcaebaea4@squarespace.com
DTSTAMP:20170214T023408Z
DTSTART:20170312T160000Z
DTEND:20170312T210000Z
SUMMARY:WORSER BAY CLUB DAY -  Wharf Swim
END:VEVENT
END:VCALENDAR
