BEGIN:VCALENDAR
VERSION:2.0
PRODID:-//Squarespace Inc/Squarespace 6//v6//EN
BEGIN:VEVENT
UID:57cd4237b8a79b71bbfbf39f@squarespace.com
DTSTAMP:20170118T202440Z
DTSTART:20170209T140000Z
DTEND:20170210T200000Z
SUMMARY:Venue Hire (Beach Education)
END:VEVENT
END:VCALENDAR
