BEGIN:VCALENDAR
VERSION:2.0
PRODID:-//Squarespace Inc/Squarespace 6//v6//EN
BEGIN:VEVENT
UID:584e51c6b3db2b3cd0e367e8@squarespace.com
DTSTAMP:20161212T072956Z
DTSTART:20170205T170000Z
DTEND:20170205T220000Z
SUMMARY:WORSER BAY CLUB DAY
END:VEVENT
END:VCALENDAR
