BEGIN:VCALENDAR
VERSION:2.0
PRODID:-//Squarespace Inc/Squarespace 6//v6//EN
BEGIN:VEVENT
UID:58570e7a197aea66c1df3832@squarespace.com
DTSTAMP:20161218T223359Z
DTSTART:20170204T170000Z
DTEND:20170205T150000Z
SUMMARY:Venue Hire
END:VEVENT
END:VCALENDAR
