BEGIN:VCALENDAR
VERSION:2.0
PRODID:-//Squarespace Inc/Squarespace 6//v6//EN
BEGIN:VEVENT
UID:584e527d2e69cf27ac31f9f6@squarespace.com
DTSTAMP:20161212T073254Z
DTSTART:20170226T170000Z
DTEND:20170226T220000Z
SUMMARY:WORSER BAY CLUB DAY
END:VEVENT
END:VCALENDAR
