BEGIN:VCALENDAR
VERSION:2.0
PRODID:-//Squarespace Inc/Squarespace 6//v6//EN
BEGIN:VEVENT
UID:57cd42f4cd0f686bb5e3b37e@squarespace.com
DTSTAMP:20170118T202127Z
DTSTART:20170223T170000Z
DTEND:20170223T220000Z
SUMMARY:Venue Hire
END:VEVENT
END:VCALENDAR
