BEGIN:VCALENDAR
VERSION:2.0
PRODID:-//Squarespace Inc/Squarespace 6//v6//EN
BEGIN:VEVENT
UID:58a27111d2b857d83299e0f3@squarespace.com
DTSTAMP:20170214T025400Z
DTSTART:20170220T140000Z
DTEND:20170220T200000Z
SUMMARY:Beach Education
END:VEVENT
END:VCALENDAR
