BEGIN:VCALENDAR
VERSION:2.0
PRODID:-//Squarespace Inc/Squarespace 6//v6//EN
BEGIN:VEVENT
UID:584e52442994cac9e53fb0da@squarespace.com
DTSTAMP:20161212T073205Z
DTSTART:20170219T170000Z
DTEND:20170219T220000Z
SUMMARY:WORSER BAY CLUB DAY
END:VEVENT
END:VCALENDAR
