BEGIN:VCALENDAR
VERSION:2.0
PRODID:-//Squarespace Inc/Squarespace 6//v6//EN
BEGIN:VEVENT
UID:57cd42b2cd0f686bb5e3b220@squarespace.com
DTSTAMP:20161212T042055Z
DTSTART:20170213T140000Z
DTEND:20170217T200000Z
SUMMARY:Venue Hire (Beach Education)
END:VEVENT
END:VCALENDAR
