BEGIN:VCALENDAR
VERSION:2.0
PRODID:-//Squarespace Inc/Squarespace 6//v6//EN
BEGIN:VEVENT
UID:58a271a72994ca6379c7fecb@squarespace.com
DTSTAMP:20170214T025612Z
DTSTART:20170214T000000Z
DTEND:20170214T020000Z
SUMMARY:Club Committee Meeting
END:VEVENT
END:VCALENDAR
