BEGIN:VCALENDAR
VERSION:2.0
PRODID:-//Squarespace Inc/Squarespace 6//v6//EN
BEGIN:VEVENT
UID:584e5202c534a59865898b02@squarespace.com
DTSTAMP:20161212T073105Z
DTSTART:20170212T170000Z
DTEND:20170212T220000Z
SUMMARY:WORSER BAY CLUB DAY
END:VEVENT
END:VCALENDAR
