BEGIN:VCALENDAR
VERSION:2.0
PRODID:-//Squarespace Inc/Squarespace 6//v6//EN
BEGIN:VEVENT
UID:57beac59b3db2ba07a7d154e@squarespace.com
DTSTAMP:20161212T042039Z
DTSTART:20170211T170000Z
DTEND:20170212T153000Z
SUMMARY:Venue Hire
END:VEVENT
END:VCALENDAR
