BEGIN:VCALENDAR
VERSION:2.0
PRODID:-//Squarespace Inc/Squarespace 6//v6//EN
BEGIN:VEVENT
UID:584e2a898419c2a296d9a3f6@squarespace.com
DTSTAMP:20161212T044614Z
DTSTART:20170210T210000Z
DTEND:20170212T150000Z
SUMMARY:Venue Hire
END:VEVENT
END:VCALENDAR
