BEGIN:VCALENDAR
VERSION:2.0
PRODID:-//Squarespace Inc/Squarespace 6//v6//EN
BEGIN:VEVENT
UID:597a971e86e6c04f9b77f1fb@squarespace.com
DTSTAMP:20170728T015919Z
DTSTART:20171208T200000Z
DTEND:20171209T000000Z
SUMMARY:Venue Booked
END:VEVENT
END:VCALENDAR
