BEGIN:VCALENDAR
VERSION:2.0
PRODID:-//Squarespace Inc/Squarespace 6//v6//EN
BEGIN:VEVENT
UID:5a024dc7652dea4ceb302df8@squarespace.com
DTSTAMP:20171108T002057Z
DTSTART:20171207T200000Z
DTEND:20171208T010000Z
SUMMARY:Venue Booked
END:VEVENT
END:VCALENDAR
