BEGIN:VCALENDAR
VERSION:2.0
PRODID:-//Squarespace Inc/Squarespace 6//v6//EN
BEGIN:VEVENT
UID:59fffc6f8e7b0f1f9fa8fe90@squarespace.com
DTSTAMP:20171106T060925Z
DTSTART:20171204T140000Z
DTEND:20171204T193000Z
SUMMARY:Beach Education
END:VEVENT
END:VCALENDAR
