BEGIN:VCALENDAR
VERSION:2.0
PRODID:-//Squarespace Inc/Squarespace 6//v6//EN
BEGIN:VEVENT
UID:59a390639f74564a5b51a1a0@squarespace.com
DTSTAMP:20170828T034120Z
DTSTART:20171231T170000Z
DTEND:20171231T200000Z
SUMMARY:Lifeguard Training
END:VEVENT
END:VCALENDAR
