BEGIN:VCALENDAR
VERSION:2.0
PRODID:-//Squarespace Inc/Squarespace 6//v6//EN
BEGIN:VEVENT
UID:59a38f8c6a4963c599fe2d17@squarespace.com
DTSTAMP:20170828T033633Z
DTSTART:20171203T170000Z
DTEND:20171203T200000Z
SUMMARY:Lifeguard Training
END:VEVENT
END:VCALENDAR
