BEGIN:VCALENDAR
VERSION:2.0
PRODID:-//Squarespace Inc/Squarespace 6//v6//EN
BEGIN:VEVENT
UID:59a39021ccc5c5e77dfadc0d@squarespace.com
DTSTAMP:20170828T033854Z
DTSTART:20171224T170000Z
DTEND:20171224T200000Z
SUMMARY:Lifeguard Training
END:VEVENT
END:VCALENDAR
