BEGIN:VCALENDAR
VERSION:2.0
PRODID:-//Squarespace Inc/Squarespace 6//v6//EN
BEGIN:VEVENT
UID:5a024d1571c10b3e8eb16e4a@squarespace.com
DTSTAMP:20171108T001917Z
DTSTART:20171220T170000Z
DTEND:20171220T233000Z
SUMMARY:Venue Booked
END:VEVENT
END:VCALENDAR
