BEGIN:VCALENDAR
VERSION:2.0
PRODID:-//Squarespace Inc/Squarespace 6//v6//EN
BEGIN:VEVENT
UID:59a38fee37c5817714db5399@squarespace.com
DTSTAMP:20170828T033756Z
DTSTART:20171217T170000Z
DTEND:20171217T200000Z
SUMMARY:Lifeguard Training
END:VEVENT
END:VCALENDAR
