BEGIN:VCALENDAR
VERSION:2.0
PRODID:-//Squarespace Inc/Squarespace 6//v6//EN
BEGIN:VEVENT
UID:59cc1aac37c58187d27dc062@squarespace.com
DTSTAMP:20170927T214109Z
DTSTART:20171215T203000Z
DTEND:20171216T150000Z
SUMMARY:Venue Booked
END:VEVENT
END:VCALENDAR
