BEGIN:VCALENDAR
VERSION:2.0
PRODID:-//Squarespace Inc/Squarespace 6//v6//EN
BEGIN:VEVENT
UID:597a975aa803bb7c43d95171@squarespace.com
DTSTAMP:20170728T014709Z
DTSTART:20171213T140000Z
DTEND:20171214T020000Z
SUMMARY:Venue Booked
END:VEVENT
END:VCALENDAR
