BEGIN:VCALENDAR
VERSION:2.0
PRODID:-//Squarespace Inc/Squarespace 6//v6//EN
BEGIN:VEVENT
UID:59a38fcabe42d6b94b999e76@squarespace.com
DTSTAMP:20170828T033708Z
DTSTART:20171210T170000Z
DTEND:20171210T200000Z
SUMMARY:Lifeguard Training
END:VEVENT
END:VCALENDAR
