BEGIN:VCALENDAR
VERSION:2.0
PRODID:-//Squarespace Inc/Squarespace 6//v6//EN
BEGIN:VEVENT
UID:59fffc22f9619a4291b210c8@squarespace.com
DTSTAMP:20171106T060835Z
DTSTART:20171201T140000Z
DTEND:20171201T193000Z
SUMMARY:Beach Education
END:VEVENT
END:VCALENDAR
