BEGIN:VCALENDAR
VERSION:2.0
PRODID:-//Squarespace Inc/Squarespace 6//v6//EN
BEGIN:VEVENT
UID:59a38eddf5e2318004be05ed@squarespace.com
DTSTAMP:20170828T033316Z
DTSTART:20171105T170000Z
DTEND:20171105T200000Z
SUMMARY:Lifeguard Training
END:VEVENT
END:VCALENDAR
