BEGIN:VCALENDAR
VERSION:2.0
PRODID:-//Squarespace Inc/Squarespace 6//v6//EN
BEGIN:VEVENT
UID:59a3a648e58c62501fc5d5bd@squarespace.com
DTSTAMP:20170828T051328Z
DTSTART:20171104T150000Z
DTEND:20171104T200000Z
SUMMARY:Venue Booked
END:VEVENT
END:VCALENDAR
