BEGIN:VCALENDAR
VERSION:2.0
PRODID:-//Squarespace Inc/Squarespace 6//v6//EN
BEGIN:VEVENT
UID:59fffbbe24a6943fd0f6e02d@squarespace.com
DTSTAMP:20171106T060719Z
DTSTART:20171130T140000Z
DTEND:20171230T193000Z
SUMMARY:Beach Education
END:VEVENT
END:VCALENDAR
