BEGIN:VCALENDAR
VERSION:2.0
PRODID:-//Squarespace Inc/Squarespace 6//v6//EN
BEGIN:VEVENT
UID:59a38f51d482e956a1496296@squarespace.com
DTSTAMP:20170828T033524Z
DTSTART:20171126T170000Z
DTEND:20171126T200000Z
SUMMARY:Lifeguard Training
END:VEVENT
END:VCALENDAR
