BEGIN:VCALENDAR
VERSION:2.0
PRODID:-//Squarespace Inc/Squarespace 6//v6//EN
BEGIN:VEVENT
UID:59c05d2ce5dd5bf0edd5ffef@squarespace.com
DTSTAMP:20170918T235801Z
DTSTART:20171125T130000Z
DTEND:20171126T220000Z
SUMMARY:SLSNZ - Leasers for Life Workshop
END:VEVENT
END:VCALENDAR
