BEGIN:VCALENDAR
VERSION:2.0
PRODID:-//Squarespace Inc/Squarespace 6//v6//EN
BEGIN:VEVENT
UID:59c2f551017db2dd4425b648@squarespace.com
DTSTAMP:20170920T231121Z
DTSTART:20171119T133000Z
DTEND:20171119T220000Z
SUMMARY:Worser Bay Life Saving Club Carnival
END:VEVENT
END:VCALENDAR
