BEGIN:VCALENDAR
VERSION:2.0
PRODID:-//Squarespace Inc/Squarespace 6//v6//EN
BEGIN:VEVENT
UID:59a38f05cd0f681b1cb4855a@squarespace.com
DTSTAMP:20170828T033352Z
DTSTART:20171112T170000Z
DTEND:20171112T200000Z
SUMMARY:Lifeguard training
END:VEVENT
END:VCALENDAR
