BEGIN:VCALENDAR
VERSION:2.0
PRODID:-//Squarespace Inc/Squarespace 6//v6//EN
BEGIN:VEVENT
UID:584e50535016e1bf5de9432f@squarespace.com
DTSTAMP:20161212T072425Z
DTSTART:20170108T170000Z
DTEND:20170108T220000Z
SUMMARY:WORSER BAY CLUB DAY
END:VEVENT
END:VCALENDAR
