BEGIN:VCALENDAR
VERSION:2.0
PRODID:-//Squarespace Inc/Squarespace 6//v6//EN
BEGIN:VEVENT
UID:584e517d414fb5fd2905e03a@squarespace.com
DTSTAMP:20161212T072859Z
DTSTART:20170129T170000Z
DTEND:20170129T220000Z
SUMMARY:WORSER BAY CLUB DAY
END:VEVENT
END:VCALENDAR
