BEGIN:VCALENDAR
VERSION:2.0
PRODID:-//Squarespace Inc/Squarespace 6//v6//EN
BEGIN:VEVENT
UID:584e29d7b8a79bf389eadf15@squarespace.com
DTSTAMP:20161212T044051Z
DTSTART:20170128T170000Z
DTEND:20170129T150000Z
SUMMARY:Venue Hire
END:VEVENT
END:VCALENDAR
