BEGIN:VCALENDAR
VERSION:2.0
PRODID:-//Squarespace Inc/Squarespace 6//v6//EN
BEGIN:VEVENT
UID:584e5137f7e0ab56e96b3efc@squarespace.com
DTSTAMP:20161212T072743Z
DTSTART:20170122T170000Z
DTEND:20170122T220000Z
SUMMARY:WORSER BAY CLUB DAY
END:VEVENT
END:VCALENDAR
