BEGIN:VCALENDAR
VERSION:2.0
PRODID:-//Squarespace Inc/Squarespace 6//v6//EN
BEGIN:VEVENT
UID:57beac1c59cc6814ef9494bb@squarespace.com
DTSTAMP:20161212T042001Z
DTSTART:20170121T170000Z
DTEND:20170122T160000Z
SUMMARY:Venue Hire
END:VEVENT
END:VCALENDAR
