BEGIN:VCALENDAR
VERSION:2.0
PRODID:-//Squarespace Inc/Squarespace 6//v6//EN
BEGIN:VEVENT
UID:584e50b7c534a59865898301@squarespace.com
DTSTAMP:20161212T072633Z
DTSTART:20170115T170000Z
DTEND:20170115T220000Z
SUMMARY:WORSER BAY CLUB DAY
END:VEVENT
END:VCALENDAR
