BEGIN:VCALENDAR
VERSION:2.0
PRODID:-//Squarespace Inc/Squarespace 6//v6//EN
BEGIN:VEVENT
UID:57cd4387e3df282738eb95b1@squarespace.com
DTSTAMP:20160905T100638Z
DTSTART:20160925T120000Z
DTEND:20160925T210000Z
SUMMARY:Hall Hire
END:VEVENT
END:VCALENDAR
