BEGIN:VCALENDAR
VERSION:2.0
PRODID:-//Squarespace Inc/Squarespace 6//v6//EN
BEGIN:VEVENT
UID:57cd434a579fb377697febe4@squarespace.com
DTSTAMP:20160905T100545Z
DTSTART:20160924T120000Z
DTEND:20160924T210000Z
SUMMARY:Hall Hire
END:VEVENT
END:VCALENDAR
